BEGIN:VCALENDAR
VERSION:2.0
PRODID:-//FIQ - UNL - ITA
CALSCALE:GREGORIAN
METHOD:PUBLISH
X-WR-CALNAME:FIQ - UNL - ITA
X-ORIGINAL-URL:https://fiq.unl.edu.ar/ita/area/estudios-fisicoquimicos/
X-WR-CALDESC:Área Estudios Fisicoquímicos de Alimentos
BEGIN:VEVENT
DTSTART:
DTEND:
SUMMARY:Área Estudios Fisicoquímicos de Alimentos
DESCRIPTION:Docencia de Grado y Posgrado. Análisis Fisicoquímico de   Alimentos, Caracterizaciones Reológicas y Texturales, Reacciones   Enzimáticas, Purificación y caracterización funcional de   macromoléculas, Revalorización de residuos de industriales, Desarrollo   de películas comestibles, Encapsulación y determinación de estabilidad   y viabilidad de agentes bioactivos  en condiciones gastrointestinales   y de almacenamiento.

LOCATION:
END:VEVENT
END:VCALENDAR
