BEGIN:VCALENDAR
VERSION:2.0
PRODID:-//FIQ - UNL - ITA
CALSCALE:GREGORIAN
METHOD:PUBLISH
X-WR-CALNAME:FIQ - UNL - ITA
X-ORIGINAL-URL:https://fiq.unl.edu.ar/ita/area/leche-y-productos-lacteos/
X-WR-CALDESC:Área Leche y Productos Lácteos
BEGIN:VEVENT
DTSTART:
DTEND:
SUMMARY:Área Leche y Productos Lácteos
DESCRIPTION:Docencia de Grado y Posgrado. Servicios a terceros (laboratorio y planta piloto inscrita en el Registro de Emprendimientos Productores Locales-REPLo # 3018). Estudio y caracterización textural y reológica de alimentos. Asesoramiento en líneas de procesos, desarrollo y control de calidad de productos y técnicas analíticas, e investigación en Formulación y Desarrollo de Productos Lácteos Funcionales. Líneas actuales: Quesos Funcionales (Untables-QU sin desuerado, Frescos/Blandos y Semiduros), y Yogur, Postres, QU, Bebidas Fermentadas y No Fermentadas, todos a partir de suero de quesería y derivados.
LOCATION:
END:VEVENT
END:VCALENDAR
