BEGIN:VCALENDAR
VERSION:2.0
PRODID:-//FIQ - UNL - ITA
CALSCALE:GREGORIAN
METHOD:PUBLISH
X-WR-CALNAME:FIQ - UNL - ITA
X-ORIGINAL-URL:https://fiq.unl.edu.ar/ita/area/microbiologia-de-alimentos/
X-WR-CALDESC:Área Microbiología de Alimentos
BEGIN:VEVENT
DTSTART:
DTEND:
SUMMARY:Área Microbiología de Alimentos
DESCRIPTION:Docencia de Grado y Posgrado. Aplicación de probióticos a vegetales mínimamente procesados. Control de patógenos durante la producción de canales de pollos. Servicios a terceros para el análisis microbiológico y/o asesoramiento en la producción de alimentos.  

LOCATION:
END:VEVENT
END:VCALENDAR
